BEGIN:VCALENDAR
VERSION:2.0
PRODID:-//Thompson Region Division of Family Practice - ECPv6.15.20//NONSGML v1.0//EN
CALSCALE:GREGORIAN
METHOD:PUBLISH
X-WR-CALNAME:Thompson Region Division of Family Practice
X-ORIGINAL-URL:https://www.trdfp.ca
X-WR-CALDESC:Events for Thompson Region Division of Family Practice
REFRESH-INTERVAL;VALUE=DURATION:PT1H
X-Robots-Tag:noindex
X-PUBLISHED-TTL:PT1H
BEGIN:VTIMEZONE
TZID:America/Vancouver
BEGIN:DAYLIGHT
TZOFFSETFROM:-0800
TZOFFSETTO:-0700
TZNAME:PDT
DTSTART:20250309T100000
END:DAYLIGHT
BEGIN:STANDARD
TZOFFSETFROM:-0700
TZOFFSETTO:-0800
TZNAME:PST
DTSTART:20251102T090000
END:STANDARD
BEGIN:DAYLIGHT
TZOFFSETFROM:-0800
TZOFFSETTO:-0700
TZNAME:PDT
DTSTART:20260308T100000
END:DAYLIGHT
BEGIN:STANDARD
TZOFFSETFROM:-0700
TZOFFSETTO:-0800
TZNAME:PST
DTSTART:20261101T090000
END:STANDARD
BEGIN:DAYLIGHT
TZOFFSETFROM:-0800
TZOFFSETTO:-0700
TZNAME:PDT
DTSTART:20270314T100000
END:DAYLIGHT
BEGIN:STANDARD
TZOFFSETFROM:-0700
TZOFFSETTO:-0800
TZNAME:PST
DTSTART:20271107T090000
END:STANDARD
END:VTIMEZONE
BEGIN:VEVENT
DTSTART;TZID=America/Vancouver:20260207T173000
DTEND;TZID=America/Vancouver:20260207T200000
DTSTAMP:20260419T061226
CREATED:20251208T184319Z
LAST-MODIFIED:20251208T184319Z
UID:10000017-1770485400-1770494400@www.trdfp.ca
SUMMARY:10 Years of Kamloops UBC Family Practice Residency Program Celebration
DESCRIPTION:Please join us in celebrating 10 years of the Family Practice Residency Program. In 2016\, Kamloops applauded the first graduating class of the UBC Family Practice Residency Program and ten years later\, the program continues to grow and flourish! Alumni\, participating physicians\, and community partners are all welcome to join as we celebrate a decade of impact. \nDate: February 7\, 2026\nTime: Doors open – 5:30 p.m. | Dinner – 6:30 p.m.\nLocation: Delta Hotel\, 540 Victoria Street\, Kamloops\, BC\nBook your hotel rate here. \nPlanning is underway to try and provide a CME opportunity. More details to follow. Tickets are limited\, so please register early! \n\n\nFor any questions\, connect with Marcy Matthew at mmatthew@thompsondivision.ca or Shelley Sim at ssim@thompsondivision.ca.
URL:https://www.trdfp.ca/event/10-years-of-kamloops-ubc-family-practice-residency-program-celebration/
LOCATION:In-Person Event\, InspireHealth Kamloops Centre\, 243 Seymour Street\, Kamloops\, BC\, Kamloops\, British Columbia\, Canada
CATEGORIES:Public Events
ATTACH;FMTTYPE=image/png:https://www.trdfp.ca/wp-content/uploads/2025/12/UBC-FP-Residency-invite-1.png
END:VEVENT
END:VCALENDAR