BEGIN:VCALENDAR
VERSION:2.0
PRODID:-//Thompson Region Division of Family Practice - ECPv6.15.20//NONSGML v1.0//EN
CALSCALE:GREGORIAN
METHOD:PUBLISH
X-ORIGINAL-URL:https://www.trdfp.ca
X-WR-CALDESC:Events for Thompson Region Division of Family Practice
REFRESH-INTERVAL;VALUE=DURATION:PT1H
X-Robots-Tag:noindex
X-PUBLISHED-TTL:PT1H
BEGIN:VTIMEZONE
TZID:America/Vancouver
BEGIN:DAYLIGHT
TZOFFSETFROM:-0800
TZOFFSETTO:-0700
TZNAME:PDT
DTSTART:20240310T100000
END:DAYLIGHT
BEGIN:STANDARD
TZOFFSETFROM:-0700
TZOFFSETTO:-0800
TZNAME:PST
DTSTART:20241103T090000
END:STANDARD
BEGIN:DAYLIGHT
TZOFFSETFROM:-0800
TZOFFSETTO:-0700
TZNAME:PDT
DTSTART:20250309T100000
END:DAYLIGHT
BEGIN:STANDARD
TZOFFSETFROM:-0700
TZOFFSETTO:-0800
TZNAME:PST
DTSTART:20251102T090000
END:STANDARD
BEGIN:DAYLIGHT
TZOFFSETFROM:-0800
TZOFFSETTO:-0700
TZNAME:PDT
DTSTART:20260308T100000
END:DAYLIGHT
BEGIN:STANDARD
TZOFFSETFROM:-0700
TZOFFSETTO:-0800
TZNAME:PST
DTSTART:20261101T090000
END:STANDARD
BEGIN:DAYLIGHT
TZOFFSETFROM:-0800
TZOFFSETTO:-0700
TZNAME:PDT
DTSTART:20270314T100000
END:DAYLIGHT
BEGIN:STANDARD
TZOFFSETFROM:-0700
TZOFFSETTO:-0800
TZNAME:PST
DTSTART:20271107T090000
END:STANDARD
END:VTIMEZONE
BEGIN:VEVENT
DTSTART;TZID=America/Vancouver:20260311T120000
DTEND;TZID=America/Vancouver:20260311T130000
DTSTAMP:20260421T031650
CREATED:20260302T212332Z
LAST-MODIFIED:20260302T212332Z
UID:10000026-1773230400-1773234000@www.trdfp.ca
SUMMARY:Join the Journey: How Foundry Kamloops Will Support Youth Through Integrated Care
DESCRIPTION:Join us for an informative Lunch & Learn designed for Physicians and Nurse Practitioners interested in learning more about Foundry Kamloops and the integrated primary care model supporting youth and young adults age 12-24. \nThis session will provide an overview of what Foundry Kamloops is\, our mission\, and how primary care providers fit within the Integrated Youth Services (IYS) model. We’ll go over the practical details of working at Foundry Kamloops\, from contracting\, staffing model\, and opening timelines\, leaving time for questions and discussion. \nDate: Wednesday\, March 11\, 2026\nTime: 12:00 p.m. – 1:00 p.m.\nLocation: Zoom (Virtual)  \nA 1-hour sessional can be claimed for attending \nDuring this session\, we will cover: \n\nWhat Foundry Kamloops is and who we serve\nFoundry’s mission and Integrated Youth Services (IYS) care model\nRole and Compensation as a Primary Care Provider at Foundry\nHow the interdisciplinary team works together\n\nThis session is intended to inform physicians and nurse practitioners who are curious about collaborating with or making referrals to Foundry and would like a clearer understanding of how primary care is delivered within an IYS setting. \nWe look forward to connecting and sharing how primary care fits into the Foundry Kamloops model and the larger network of care.
URL:https://www.trdfp.ca/event/join-the-journey-how-foundry-kamloops-will-support-youth-through-integrated-care/
LOCATION:Online Event
CATEGORIES:Learning Events
ATTACH;FMTTYPE=image/png:https://www.trdfp.ca/wp-content/uploads/2026/03/TRDFP-Graphs-for-Xpress-12.png
END:VEVENT
BEGIN:VEVENT
DTSTART;TZID=America/Vancouver:20260306T120000
DTEND;TZID=America/Vancouver:20260306T130000
DTSTAMP:20260421T031650
CREATED:20260220T193655Z
LAST-MODIFIED:20260220T194247Z
UID:10000021-1772798400-1772802000@www.trdfp.ca
SUMMARY:PAS Training Sessions for MOAs: Access\, Attachment & Panel Management
DESCRIPTION:The Ministry of Health\, in partnership with Doctors of BC and Nurses and Nurse Practitioners of BC\, is offering an advanced webinar series designed specifically for Medical Office Assistants (MOAs) and clinic administrative staff who support attachment and panel management in primary care. \nThese interactive sessions are a great opportunity for MOAs to strengthen their confidence and efficiency using the Provincial Attachment System (PAS) — including how to digitally receive\, select\, and confirm patients directly in the system. \nUpcoming sessions (12 – 1 p.m. PST): \n\nTuesday\, February 24 – PAS Access & Navigation: Register here\nFriday\, March 6 – Attaching Patients & Panel Management: Register here \n\nFamily Physicians and Nurse Practitioners are encouraged to support their MOAs in attending. Investing one hour can streamline clinic workflows\, improve attachment processes\, and strengthen coordination with local Attachment Coordinators. \nQuestions? Contact the Division’s Attachment Coordinator at attachment@thompsondivision.ca
URL:https://www.trdfp.ca/event/pas-training-sessions-for-moas-access-attachment-panel-management/2026-03-06/
LOCATION:Online Event
CATEGORIES:MOAs
ATTACH;FMTTYPE=image/png:https://www.trdfp.ca/wp-content/uploads/2026/02/TRDFP-Graphs-for-Xpress-19.png
END:VEVENT
BEGIN:VEVENT
DTSTART;TZID=America/Vancouver:20260306T100000
DTEND;TZID=America/Vancouver:20260306T120000
DTSTAMP:20260421T031650
CREATED:20260220T194710Z
LAST-MODIFIED:20260220T194710Z
UID:10000023-1772791200-1772798400@www.trdfp.ca
SUMMARY:Strengthening Allyship in Action: Walking Alongside in Medicine
DESCRIPTION:Join this interactive online workshop focused on strengthening allyship and advancing reconciliation in healthcare and medical education. Through facilitated dialogue and collaborative activities\, participants will explore foundational concepts in Indigenous health and reflect on the Truth and Reconciliation Commission’s Call to Action #23. \nDate: Friday\, March 6\, 2026\nTime: 10 a.m. – 12:00 p.m. PST\nLocation: Online Workshop \nDesigned for healthcare professionals\, medical learners\, physicians\, and administrators committed to meaningful action\, this workshop offers strategies to build trust\, foster accountability\, and contribute to lasting change in healthcare. Participants will gain practical tools for engaging respectfully with Indigenous colleagues and communities\, thoughtfully honouring key days of significance\, and practicing allyship in clinical and educational settings.
URL:https://www.trdfp.ca/event/strengthening-allyship-in-action-walking-alongside-in-medicine/
LOCATION:Online Event
CATEGORIES:Learning Events
ATTACH;FMTTYPE=image/png:https://www.trdfp.ca/wp-content/uploads/2026/02/TRDFP-Graphs-for-Xpress-27.png
END:VEVENT
BEGIN:VEVENT
DTSTART;TZID=America/Vancouver:20260305T190000
DTEND;TZID=America/Vancouver:20260305T200000
DTSTAMP:20260421T031650
CREATED:20260220T194545Z
LAST-MODIFIED:20260220T194545Z
UID:10000022-1772737200-1772740800@www.trdfp.ca
SUMMARY:Pathways Webinar: New Features\, Care Pathways\, Fillable Webforms\, and more
DESCRIPTION:Join Pathways to explore new features and care pathways to streamline your workflow\, including: \n\nEnhanced Care Pathways for Palliative Care\, Hearing Loss\, and Breastfeeding\nNew quick filter buttons to support navigation of Addiction Services\,\nMessage Feature for advice requests and service requests\, and\nNew Patient Fillable Webforms.\n\nDate: Thursday\, March 5\, 2026\nTime: 7:00 p.m. PST\nLocation: Zoom (virtual meeting)
URL:https://www.trdfp.ca/event/pathways-webinar-new-features-care-pathways-fillable-webforms-and-more/
LOCATION:Online Event
ATTACH;FMTTYPE=image/png:https://www.trdfp.ca/wp-content/uploads/2026/02/TRDFP-Graphs-for-Xpress-26.png
END:VEVENT
BEGIN:VEVENT
DTSTART;TZID=America/Vancouver:20260224T120000
DTEND;TZID=America/Vancouver:20260224T130000
DTSTAMP:20260421T031650
CREATED:20260220T193655Z
LAST-MODIFIED:20260220T194247Z
UID:10000020-1771934400-1771938000@www.trdfp.ca
SUMMARY:PAS Training Sessions for MOAs: Access\, Attachment & Panel Management
DESCRIPTION:The Ministry of Health\, in partnership with Doctors of BC and Nurses and Nurse Practitioners of BC\, is offering an advanced webinar series designed specifically for Medical Office Assistants (MOAs) and clinic administrative staff who support attachment and panel management in primary care. \nThese interactive sessions are a great opportunity for MOAs to strengthen their confidence and efficiency using the Provincial Attachment System (PAS) — including how to digitally receive\, select\, and confirm patients directly in the system. \nUpcoming sessions (12 – 1 p.m. PST): \n\nTuesday\, February 24 – PAS Access & Navigation: Register here\nFriday\, March 6 – Attaching Patients & Panel Management: Register here \n\nFamily Physicians and Nurse Practitioners are encouraged to support their MOAs in attending. Investing one hour can streamline clinic workflows\, improve attachment processes\, and strengthen coordination with local Attachment Coordinators. \nQuestions? Contact the Division’s Attachment Coordinator at attachment@thompsondivision.ca
URL:https://www.trdfp.ca/event/pas-training-sessions-for-moas-access-attachment-panel-management/2026-02-24/
LOCATION:Online Event
CATEGORIES:MOAs
ATTACH;FMTTYPE=image/png:https://www.trdfp.ca/wp-content/uploads/2026/02/TRDFP-Graphs-for-Xpress-19.png
END:VEVENT
BEGIN:VEVENT
DTSTART;TZID=America/Vancouver:20260120T120000
DTEND;TZID=America/Vancouver:20260120T130000
DTSTAMP:20260421T031650
CREATED:20251204T001716Z
LAST-MODIFIED:20260122T212929Z
UID:10000016-1768910400-1768914000@www.trdfp.ca
SUMMARY:Practical Tools & Resources for Chronic Pain Management
DESCRIPTION:Join us for an informative session exploring the supports available for both clinicians and patients through Pain Care BC and Pain BC. \n\nMatt Smith from Pain Care BC will provide a brief overview of the organization\, its key priorities\, and how healthcare practitioners can get involved.\nGregg Moor from Pain BC will offer an overview of the wide range of resources and programs available to support both practitioners and people living with pain.\nFinally\, Dr. Tracy Monk will present a case study demonstrating the use of the Chronic Pain Care Pathway on Pathways. She will show the simplicity in accessing relevant information\, making referrals\, and connecting patients to appropriate programs—including those offered by Pain BC and other community resources.This session is ideal for health care clinicians looking to improve their understanding of chronic pain supports in BC and streamline referrals to accessible\, effective care.\n\n\n\n\n\nIf you have any questions\, please reach out to Kelli Thompson at kthompson@thompsondivision.ca
URL:https://www.trdfp.ca/event/practical-tools-resources-for-chronic-pain-management/
LOCATION:Online Event
CATEGORIES:Learning Events
ATTACH;FMTTYPE=image/png:https://www.trdfp.ca/wp-content/uploads/2025/12/TRDFP-Events-3.png
END:VEVENT
BEGIN:VEVENT
DTSTART;TZID=America/Vancouver:20251126T120000
DTEND;TZID=America/Vancouver:20251126T130000
DTSTAMP:20260421T031651
CREATED:20251001T162954Z
LAST-MODIFIED:20251003T204545Z
UID:10000012-1764158400-1764162000@www.trdfp.ca
SUMMARY:Lunch and Learn: Care for Patients on Controlled Substances
DESCRIPTION:Dr. Nicholas Baldwin\, Medical Director\, Interior Health Addiction Medicine\, joins us to for this informative Lunch and Learn: Caring for Patients on Controlled Substance (focus on opioid prescribing for chronic pain). \n\n\nDATE: Wednesday\, November 26th \nTIME: 12:00 – 1:00 pm \nWHERE: Zoom Meeting | Recording will be available for later viewing \nhttps://trdfp.zoom.us/meeting/register/dK4c2TBzTomYDmxXrL8u5A\nA one hour sessional is available for attendance.
URL:https://www.trdfp.ca/event/lunch-and-learn-care-for-patients-on-controlled-substances/
LOCATION:Online Event
CATEGORIES:Learning Events
ATTACH;FMTTYPE=image/png:https://www.trdfp.ca/wp-content/uploads/2025/10/virtual-lunch.png
END:VEVENT
BEGIN:VEVENT
DTSTART;TZID=America/Vancouver:20251009T123000
DTEND;TZID=America/Vancouver:20251009T124500
DTSTAMP:20260421T031651
CREATED:20250930T020402Z
LAST-MODIFIED:20251021T165301Z
UID:10000009-1760013000-1760013900@www.trdfp.ca
SUMMARY:Rapid Fire - PAS Double Trouble
DESCRIPTION:Did you know?\nReviewing your MRP statuses and updating your clinic capacity in PAS not only keeps the data accurate\, but also informs regional capacity and provides an opportunity for more patient attachments. \nJoin us for the​ Double Trouble Rapid Fire Session where the Division will dive deeper into MRP statuses\, next steps\, and ensure your panel reflects your true patients. \nDate: Thursday\, October 9\, 2025\nTime: 12:30 – 12:45 p.m.\nLocation: Virtual
URL:https://www.trdfp.ca/event/rapid-fire-pas-double-trouble/
LOCATION:Online Event
CATEGORIES:Learning Events,PCN
ATTACH;FMTTYPE=image/png:https://www.trdfp.ca/wp-content/uploads/2025/09/rapid-fire.png
END:VEVENT
BEGIN:VEVENT
DTSTART;TZID=America/Vancouver:20250625T120000
DTEND;TZID=America/Vancouver:20250625T130000
DTSTAMP:20260421T031651
CREATED:20250602T225257Z
LAST-MODIFIED:20251001T155543Z
UID:10000007-1750852800-1750856400@www.trdfp.ca
SUMMARY:PCN Lunch & Learn - Meet Your Social Workers
DESCRIPTION:We’re excited to launch our first PCN-wide program\, with Primary Care Social Work and Clinical Counselling! Come join us for a lunch-time session to meet our two new team members\, Natalie and Bobbie\, who will be supporting this new program and answering questions about how Social Work and Counselling can support your primary care practice.
URL:https://www.trdfp.ca/event/pcn-lunch-learn-meet-your-social-workers/
LOCATION:Online Event
CATEGORIES:PCN
END:VEVENT
BEGIN:VEVENT
DTSTART;TZID=America/Vancouver:20250514T173000
DTEND;TZID=America/Vancouver:20250514T190000
DTSTAMP:20260421T031651
CREATED:20250428T050035Z
LAST-MODIFIED:20251001T155550Z
UID:10000005-1747243800-1747249200@www.trdfp.ca
SUMMARY:PCN Ask Us Anything: Transforming Care with a Networked Approach
DESCRIPTION:  \nNew to the Thompson PCN? Been following along? Either way\, this session is for you! \nJoin us for an interactive online session as we reintroduce the Thompson PCN through the lens of our networked model of care. We’ll share how a coordinated intake process\, anchored by the launch of social work referrals\, is designed to strengthen team-based care and improve access for patients across the region. \nWe’re also thrilled to welcome guests from the Central Okanagan PCN\, who bring five years of experience and will offer insights from their own centralized intake journey. \nThis engaging “Ask Us Anything” session is your chance to ask questions\, offer feedback\, and contribute to shaping the future of primary care in our community! \n1.5 hour sessional provided.
URL:https://www.trdfp.ca/event/pcn-ask-us-anything-transforming-care-with-a-networked-approach/
LOCATION:Online Event
CATEGORIES:PCN
ATTACH;FMTTYPE=image/png:https://www.trdfp.ca/wp-content/uploads/2025/04/ask-us-event-may2025.png
END:VEVENT
BEGIN:VEVENT
DTSTART;TZID=America/Vancouver:20250318T120000
DTEND;TZID=America/Vancouver:20250318T130000
DTSTAMP:20260421T031651
CREATED:20250428T050538Z
LAST-MODIFIED:20251001T155558Z
UID:10000006-1742299200-1742302800@www.trdfp.ca
SUMMARY:PCN Health Hubs (Lunch & Learn)
DESCRIPTION:
URL:https://www.trdfp.ca/event/pcn-health-hubs-lunch-learn/
LOCATION:Online Event
CATEGORIES:PCN
END:VEVENT
END:VCALENDAR